BEGIN:VCALENDAR
VERSION:2.0
PRODID:-//在這裏 為彼此 ｜ HERE WE ARE - ECPv6.3.6//NONSGML v1.0//EN
CALSCALE:GREGORIAN
METHOD:PUBLISH
X-ORIGINAL-URL:https://hereweare.breakthrough.org.hk
X-WR-CALDESC:Events for 在這裏 為彼此 ｜ HERE WE ARE
REFRESH-INTERVAL;VALUE=DURATION:PT1H
X-Robots-Tag:noindex
X-PUBLISHED-TTL:PT1H
BEGIN:VTIMEZONE
TZID:Asia/Hong_Kong
BEGIN:STANDARD
TZOFFSETFROM:+0800
TZOFFSETTO:+0800
TZNAME:HKT
DTSTART:20240101T000000
END:STANDARD
END:VTIMEZONE
BEGIN:VEVENT
DTSTART;TZID=Asia/Hong_Kong:20240616T143000
DTEND;TZID=Asia/Hong_Kong:20240616T153000
DTSTAMP:20260425T183646
CREATED:20240418T150811Z
LAST-MODIFIED:20240514T092424Z
UID:329-1718548200-1718551800@hereweare.breakthrough.org.hk
SUMMARY:青年交流 — Julia & Kitty（糖不甩）
DESCRIPTION:單位簡介： 成立於2014年，是一所提供全面性教育、性健康推廣及支援服務的認可的慈善機構。以糖不甩為名，希望大家談論性如同談論食一般自然和開明，以正面態度學習性，培養年輕人有能力為自己作負責任及尊重他人的決定。 \n\n「其實我哋做緊嘅性教育唔係淨係講性行為囉！」\n\n​We are a charity organization that offers comprehensive sex education. With the name “Sticky Rice Love\,” our aim is to encourage open discussions about sexuality. This positive approach should help enable young people to make sensible and responsible decisions with mutual respect.  \n\n“Our idea of sex education goes beyond just sexual behavior.” ​\n\n\n\n\n立即登記 | Sign-up\n\n\n\n免費 | Free
URL:https://hereweare.breakthrough.org.hk/event/youth-profile-10/
LOCATION:大館複式展室(1座)\, 10 Hollywood Rd\, Central\, Hong Kong\, Hong Kong
CATEGORIES:青年交流 Youth
ATTACH;FMTTYPE=image/jpeg:https://hereweare.breakthrough.org.hk/wp-content/uploads/2024/04/SRL_Event_3-scaled.jpg
ORGANIZER;CN="%E7%AA%81%E7%A0%B4%E6%A9%9F%E6%A7%8B Breakthrough":MAILTO:hereweare@breakthrough.org.hk
END:VEVENT
BEGIN:VEVENT
DTSTART;TZID=Asia/Hong_Kong:20240616T163000
DTEND;TZID=Asia/Hong_Kong:20240616T173000
DTSTAMP:20260425T183646
CREATED:20240418T150940Z
LAST-MODIFIED:20240514T092615Z
UID:334-1718555400-1718559000@hereweare.breakthrough.org.hk
SUMMARY:青年交流 — Zero (菱雨一工作室)
DESCRIPTION: \n單位簡介： \n原為幼稚園教師，兩年前辭去全職工作，開始從事繪本創作與教育。 \n因為有學習舞蹈的背景，除了講故事，也會在活動中加入身體律動的元素。 \n\n「幼稚園老師時間相當緊迫，能做嘅好有限，​​我希望用另一種方式去搞教育。​​」\n\nFrom being a kindergarten teacher to now an illustrator of children books and educator\, I create my own style and incorporate movement into my storytelling and educational activities\, building upon my past dance experience.  \n\nExcerpt: “I empathize with the demands of being a kindergarten teacher\, but choose to explore new educational models.” \n\n \n\n\n\n立即登記 | Sign-up\n\n\n\n免費 | Free
URL:https://hereweare.breakthrough.org.hk/event/youth-profile-11/
LOCATION:大館複式展室(1座)\, 10 Hollywood Rd\, Central\, Hong Kong\, Hong Kong
CATEGORIES:青年交流 Youth
ATTACH;FMTTYPE=image/jpeg:https://hereweare.breakthrough.org.hk/wp-content/uploads/2024/04/signal-2023-03-27-00-30-02-801-1.jpg
ORGANIZER;CN="%E7%AA%81%E7%A0%B4%E6%A9%9F%E6%A7%8B Breakthrough":MAILTO:hereweare@breakthrough.org.hk
END:VEVENT
END:VCALENDAR