BEGIN:VCALENDAR
VERSION:2.0
PRODID:-//在這裏 為彼此 ｜ HERE WE ARE - ECPv6.3.6//NONSGML v1.0//EN
CALSCALE:GREGORIAN
METHOD:PUBLISH
X-ORIGINAL-URL:https://hereweare.breakthrough.org.hk
X-WR-CALDESC:Events for 在這裏 為彼此 ｜ HERE WE ARE
REFRESH-INTERVAL;VALUE=DURATION:PT1H
X-Robots-Tag:noindex
X-PUBLISHED-TTL:PT1H
BEGIN:VTIMEZONE
TZID:Asia/Hong_Kong
BEGIN:STANDARD
TZOFFSETFROM:+0800
TZOFFSETTO:+0800
TZNAME:HKT
DTSTART:20240101T000000
END:STANDARD
END:VTIMEZONE
BEGIN:VEVENT
DTSTART;TZID=Asia/Hong_Kong:20240610T143000
DTEND;TZID=Asia/Hong_Kong:20240610T153000
DTSTAMP:20260423T181613
CREATED:20240418T150052Z
LAST-MODIFIED:20240514T090406Z
UID:316-1718029800-1718033400@hereweare.breakthrough.org.hk
SUMMARY:青年交流 — 林曉敏（Hong Kong Reminiscence 香港遺美）
DESCRIPTION:單位簡介： \n以相片拾遺，留住留不住，著有《香港遺美——香港老店記錄》一書。透過鏡頭記錄當下，以文字書寫往昔，在浮光掠影之中尋根究柢，將歷史轉化成可觸摸的記憶，念念不忘地細說從頭。  \n\n「歷史建築同文物唔係包袱，而係城市嘅文化資產。」\n\nI use photographs and storytelling in my book\, ” Hong Kong Reminiscence: Document of Hong Kong’s Old Stores” to preserve the essence of our history\, transforming it into tangible cherished memories.  \n\n“Historical buildings and relics are not deficiencies\, but valuable cultural assets for our city.” \n\n​ \n\n\n\n\n\n立即登記 | Sign-up\n\n\n\n免費 | Free
URL:https://hereweare.breakthrough.org.hk/event/youth-profile-6/
LOCATION:大館複式展室(1座)\, 10 Hollywood Rd\, Central\, Hong Kong\, Hong Kong
CATEGORIES:青年交流 Youth
ATTACH;FMTTYPE=image/jpeg:https://hereweare.breakthrough.org.hk/wp-content/uploads/2024/04/355470375_792250082460664_4075791242355211853_n.jpg
ORGANIZER;CN="%E7%AA%81%E7%A0%B4%E6%A9%9F%E6%A7%8B Breakthrough":MAILTO:hereweare@breakthrough.org.hk
END:VEVENT
BEGIN:VEVENT
DTSTART;TZID=Asia/Hong_Kong:20240610T163000
DTEND;TZID=Asia/Hong_Kong:20240610T173000
DTSTAMP:20260423T181613
CREATED:20240418T150243Z
LAST-MODIFIED:20240514T090619Z
UID:320-1718037000-1718040600@hereweare.breakthrough.org.hk
SUMMARY:青年交流 — Anny（Since a zine...）
DESCRIPTION:單位簡介：推動個人小誌出版計劃，引導參加者重新反思自己的敍事身份(narrative identity)，面對自己；也藉出版讓他們感受到被看見，發掘到一種表達自己的新渠道。 \n\n「​​要將小誌背後嘅價值傳遞畀公眾並唔簡單。​​」\n\n  \nPromoting a “zine” publishing project that encourages people to reflect on their narrative identity and embrace their individuality. The making of the Zine is a vehicle for authentic self-expression\, through which interpersonal connections are being realized.  \n\n“Sharing the value behind zines to the public is no simple task.”\n\n  \n\n\n\n立即登記 | Sign-up\n\n\n\n免費 | Free
URL:https://hereweare.breakthrough.org.hk/event/youth-profile-7/
LOCATION:大館複式展室(1座)\, 10 Hollywood Rd\, Central\, Hong Kong\, Hong Kong
CATEGORIES:青年交流 Youth
ATTACH;FMTTYPE=image/jpeg:https://hereweare.breakthrough.org.hk/wp-content/uploads/2024/04/WhatsApp-Image-2024-04-09-at-15.01.45.jpeg
ORGANIZER;CN="%E7%AA%81%E7%A0%B4%E6%A9%9F%E6%A7%8B Breakthrough":MAILTO:hereweare@breakthrough.org.hk
END:VEVENT
END:VCALENDAR