BEGIN:VCALENDAR
VERSION:2.0
PRODID:-//在這裏 為彼此 ｜ HERE WE ARE - ECPv6.3.6//NONSGML v1.0//EN
CALSCALE:GREGORIAN
METHOD:PUBLISH
X-WR-CALNAME:在這裏 為彼此 ｜ HERE WE ARE
X-ORIGINAL-URL:https://hereweare.breakthrough.org.hk
X-WR-CALDESC:Events for 在這裏 為彼此 ｜ HERE WE ARE
REFRESH-INTERVAL;VALUE=DURATION:PT1H
X-Robots-Tag:noindex
X-PUBLISHED-TTL:PT1H
BEGIN:VTIMEZONE
TZID:Asia/Hong_Kong
BEGIN:STANDARD
TZOFFSETFROM:+0800
TZOFFSETTO:+0800
TZNAME:HKT
DTSTART:20240101T000000
END:STANDARD
END:VTIMEZONE
BEGIN:VEVENT
DTSTART;TZID=Asia/Hong_Kong:20240608T143000
DTEND;TZID=Asia/Hong_Kong:20240608T153000
DTSTAMP:20260421T181123
CREATED:20240418T144338Z
LAST-MODIFIED:20240514T081515Z
UID:294-1717857000-1717860600@hereweare.breakthrough.org.hk
SUMMARY:青年交流 — Emma & Jonathan (海印 OceanStamps)
DESCRIPTION:單位簡介： \n由 Emma 和 Jonathan 一同經營，既有創作以動物如鯨豚為主題的印章雕刻，亦有舉辦海印賞豚團，亦希望透過不同的體驗讓人們感受到海洋與環境其實就在身邊。 \n\n「當你搵到嘅團隊係以友善嘅方式嚟搵鯨豚，你係可以信任佢哋嘅。」\n\nFocusing on creating whale / dolphin-themed stamps\, Emma and Jonathan also organize dolphin-watching tours\, to give people the unique experience to connect with the ocean and surrounding environment.  \n\n“When you find a team that is friendly to whales / dolphins\, they are trustworthy as well.”\n\n  \n\n\n\n立即登記 | Sign-in\n\n\n\n免費 | Free
URL:https://hereweare.breakthrough.org.hk/event/youth-profile-1/
LOCATION:大館複式展室(1座)\, 10 Hollywood Rd\, Central\, Hong Kong\, Hong Kong
CATEGORIES:青年交流 Youth
ATTACH;FMTTYPE=image/jpeg:https://hereweare.breakthrough.org.hk/wp-content/uploads/2024/04/agH02A4124.jpg
ORGANIZER;CN="%E7%AA%81%E7%A0%B4%E6%A9%9F%E6%A7%8B Breakthrough":MAILTO:hereweare@breakthrough.org.hk
END:VEVENT
BEGIN:VEVENT
DTSTART;TZID=Asia/Hong_Kong:20240608T163000
DTEND;TZID=Asia/Hong_Kong:20240608T173000
DTSTAMP:20260421T181123
CREATED:20240418T145134Z
LAST-MODIFIED:20240514T081646Z
UID:305-1717864200-1717867800@hereweare.breakthrough.org.hk
SUMMARY:青年交流 — 梁靜韻 Gigi ( Not a Gallery )
DESCRIPTION:單位簡介： \n成立於 2018 年，致力提供各類型藝術治療服務，為個別受困擾人士提供情感抒發的出口，並舉辦不同的分享會和體驗工作坊。早前舉辦了《我想告訴你，其實我並不快樂 》學生情緒支援計劃，期望大眾更關注情緒健康議題。 \n\n「畀佢哋確立、承認不快樂情緒嘅存在，係正視、處理嘅第一步。」\n\n​​ We provide art therapy services including experiential workshops\, offering an emotional outlet for people under distress. We held the “I Want to Tell You\, Actually I Am Not Happy” – Student Emotional Support Program\, aiming to raise public awareness of mental health issues.  \n\n“Recognizing the existence of unhappy emotions is the first step in managing them.”\n\n  \n\n\n\n立即登記 | Sign-in\n\n\n\n免費 | Free
URL:https://hereweare.breakthrough.org.hk/event/youth-profile-2/
LOCATION:大館複式展室(1座)\, 10 Hollywood Rd\, Central\, Hong Kong\, Hong Kong
CATEGORIES:青年交流 Youth
ATTACH;FMTTYPE=image/jpeg:https://hereweare.breakthrough.org.hk/wp-content/uploads/2024/04/2-scaled.jpg
ORGANIZER;CN="%E7%AA%81%E7%A0%B4%E6%A9%9F%E6%A7%8B Breakthrough":MAILTO:hereweare@breakthrough.org.hk
END:VEVENT
END:VCALENDAR